BEGIN:VCALENDAR
VERSION:2.0
PRODID:-//wp-events-plugin.com//7.2.3.1//EN
TZID:Europe/Berlin
X-WR-TIMEZONE:Europe/Berlin
BEGIN:VEVENT
UID:137@kinesiologie-heilraum.de
DTSTART;TZID=Europe/Berlin:20230318T100000
DTEND;TZID=Europe/Berlin:20230319T180000
DTSTAMP:20230113T084239Z
URL:https://www.kinesiologie-heilraum.de/seminare-kinesiologie-berlin/hypn
 ose-intensivtraining-sparen-sie-jetzt-70-e
SUMMARY:Hypnose Intensivtraining - sparen Sie jetzt 70\,- €
DESCRIPTION:Dieses Hypnose-Intensivtraining kann ohne Voraussetzungen zur S
 elbsthilfe als auch zur Anwendung in eigener Praxis gebucht werden. Es bes
 teht aus Hypnose Basisseminar und Hypnose Aufbauseminar an zwei Wochenende
 n sparen Sie 70\,- € (= 490\,- €): Ihr perfekter Einstieg. Dieses Vort
 eilsangebot ist nicht mit anderen Sparangeboten kombinierbar.\n\nDas Hypno
 se Aufbauseminar findet statt am 22. + 23.4.2023.\n\nDas Hypnose Basissemi
 nar dient Ihnen zur Selbsthilfe als auch zur Integration von Trancen in Ih
 ren Berufsalltag. Sie erlernen in Theorie und Praxis effektivste Bausteine
  einer Wachhypnose\, erfahren und üben sie in der Gruppe\, so dass Sie di
 ese zu einem individuellen Trance-Leitfaden für unterschiedlichste Ziele 
 integrieren können. Themen für Hypnosen können u.a. sein: besser und er
 holter Schlafen\, Entspannungsförderung\, geistige Gelassenheit\, Selbstv
 ertrauen aufbauen\, mehr Erfolg in Beruf und Alltag. Lesen Sie mehr über 
 Hypnose HIER.
LOCATION:Kursort Silvia Astfalk\, Geisbergstr. 29\, Berlin\, 10777 \, Deuts
 chland
GEO:52.4975118;13.33863109999993
X-APPLE-STRUCTURED-LOCATION;VALUE=URI;X-ADDRESS=Geisbergstr. 29\, Berlin\, 
 10777 \, Deutschland;X-APPLE-RADIUS=100;X-TITLE=Kursort Silvia Astfalk:geo
 :52.4975118,13.33863109999993
END:VEVENT
BEGIN:VTIMEZONE
TZID:Europe/Berlin
X-LIC-LOCATION:Europe/Berlin
BEGIN:STANDARD
DTSTART:20221030T020000
TZOFFSETFROM:+0200
TZOFFSETTO:+0100
TZNAME:CET
END:STANDARD
END:VTIMEZONE
END:VCALENDAR