BEGIN:VCALENDAR
VERSION:2.0
PRODID:-//wp-events-plugin.com//7.2.3.1//EN
TZID:Europe/Berlin
X-WR-TIMEZONE:Europe/Berlin
BEGIN:VEVENT
UID:139@kinesiologie-heilraum.de
DTSTART;TZID=Europe/Berlin:20230513T100000
DTEND;TZID=Europe/Berlin:20230514T180000
DTSTAMP:20230411T090419Z
URL:https://www.kinesiologie-heilraum.de/seminare-kinesiologie-berlin/brai
 n-gym-i-ii-intensivtraining-sparen-sie-jetzt
SUMMARY:Brain-Gym I + II Intensivtraining - Sparen Sie jetzt 120\,- €
DESCRIPTION:Vorteilsangebot für Einsteiger: Jetzt profitieren und 120\,- 
 € sparen mit dieser Blockbuchung! Das Brain-Gym II Seminar findet am 24.
  + 25.6.2023 statt. Die phantastische Welt der Kinesiologie in einem Inten
 sivtraining. Dieses Angebot ist nicht mit anderen Sparangeboten kombinierb
 ar\, aber das vorteilhafteste!  Jetzt buchen!\n\nMehr Informationen zu Br
 ain-Gym finden Sie HIER.
LOCATION:Kursort Silvia Astfalk\, Geisbergstr. 29\, Berlin\, 10777 \, Deuts
 chland
GEO:52.4975118;13.33863109999993
X-APPLE-STRUCTURED-LOCATION;VALUE=URI;X-ADDRESS=Geisbergstr. 29\, Berlin\, 
 10777 \, Deutschland;X-APPLE-RADIUS=100;X-TITLE=Kursort Silvia Astfalk:geo
 :52.4975118,13.33863109999993
END:VEVENT
BEGIN:VTIMEZONE
TZID:Europe/Berlin
X-LIC-LOCATION:Europe/Berlin
BEGIN:DAYLIGHT
DTSTART:20230326T030000
TZOFFSETFROM:+0100
TZOFFSETTO:+0200
TZNAME:CEST
END:DAYLIGHT
END:VTIMEZONE
END:VCALENDAR