BEGIN:VCALENDAR
VERSION:2.0
PRODID:-//wp-events-plugin.com//7.2.3.1//EN
TZID:Europe/Berlin
X-WR-TIMEZONE:Europe/Berlin
BEGIN:VEVENT
UID:151@kinesiologie-heilraum.de
DTSTART;TZID=Europe/Berlin:20240420T100000
DTEND;TZID=Europe/Berlin:20240421T180000
DTSTAMP:20231114T082526Z
URL:https://www.kinesiologie-heilraum.de/seminare-kinesiologie-berlin/aus-
 dem-emotionalen-stress-in-die-balance-3
SUMMARY:Aus dem emotionalen Stress in die Balance
DESCRIPTION:
LOCATION:Kursort Silvia Astfalk\, Geisbergstr. 29\, Berlin\, 10777 \, Deuts
 chland
GEO:52.4975118;13.33863109999993
X-APPLE-STRUCTURED-LOCATION;VALUE=URI;X-ADDRESS=Geisbergstr. 29\, Berlin\, 
 10777 \, Deutschland;X-APPLE-RADIUS=100;X-TITLE=Kursort Silvia Astfalk:geo
 :52.4975118,13.33863109999993
END:VEVENT
BEGIN:VTIMEZONE
TZID:Europe/Berlin
X-LIC-LOCATION:Europe/Berlin
BEGIN:DAYLIGHT
DTSTART:20240331T030000
TZOFFSETFROM:+0100
TZOFFSETTO:+0200
TZNAME:CEST
END:DAYLIGHT
END:VTIMEZONE
END:VCALENDAR