BEGIN:VCALENDAR
VERSION:2.0
PRODID:-//wp-events-plugin.com//7.2.3.1//EN
TZID:Europe/Berlin
X-WR-TIMEZONE:Europe/Berlin
BEGIN:VEVENT
UID:147@kinesiologie-heilraum.de
DTSTART;TZID=Europe/Berlin:20231112T100000
DTEND;TZID=Europe/Berlin:20231112T180000
DTSTAMP:20231012T093337Z
URL:https://www.kinesiologie-heilraum.de/seminare-kinesiologie-berlin/aufs
 tellungstag-7
SUMMARY:Aufstellungstag
DESCRIPTION:An diesem Workshop können Sie als Person mit einem Anliegen ge
 gen die hier genannte Gebühr teilnehmen. Sollten Sie die Arbeit nur kenne
 nlernen wollen und sich als Stellvertreter oder Stellvertreterin zur Verf
 ügung stellen\, so beträgt die Gebühr hierfür nur 30\,- €. Lesen Sie
  mehr zu Aufstellungen unter meinem Link Seminare als auch Behandlungen un
 d Therapie.
LOCATION:Kursort Silvia Astfalk\, Geisbergstr. 29\, Berlin\, 10777 \, Deuts
 chland
GEO:52.4975118;13.33863109999993
X-APPLE-STRUCTURED-LOCATION;VALUE=URI;X-ADDRESS=Geisbergstr. 29\, Berlin\, 
 10777 \, Deutschland;X-APPLE-RADIUS=100;X-TITLE=Kursort Silvia Astfalk:geo
 :52.4975118,13.33863109999993
END:VEVENT
BEGIN:VTIMEZONE
TZID:Europe/Berlin
X-LIC-LOCATION:Europe/Berlin
BEGIN:STANDARD
DTSTART:20231029T020000
TZOFFSETFROM:+0200
TZOFFSETTO:+0100
TZNAME:CET
END:STANDARD
END:VTIMEZONE
END:VCALENDAR