BEGIN:VCALENDAR
VERSION:2.0
PRODID:-//wp-events-plugin.com//7.2.3.1//EN
TZID:Europe/Berlin
X-WR-TIMEZONE:Europe/Berlin
BEGIN:VEVENT
UID:143@kinesiologie-heilraum.de
DTSTART;TZID=Europe/Berlin:20230916T100000
DTEND;TZID=Europe/Berlin:20230917T180000
DTSTAMP:20230608T102804Z
URL:https://www.kinesiologie-heilraum.de/seminare-kinesiologie-berlin/adva
 nced-energy-psychology-edxtm-i-iv-intensivtraining-sparen-sie-jetzt-130-e-
 2
SUMMARY:Advanced Energy Psychology EDxTM I - IV Intensivtraining: Sparen Si
 e jetzt 130\,- €
DESCRIPTION:Dieses Intensivtraining (AEP I - IV) an vier Wochenenden kann o
 hne Vorkenntnisse auch als Einstieg in eine Kinesiologie Ausbildung gebuch
 t werden.  Ihr perfekter Einstieg in die psychologische Kinesiologie. Die
 ses Vorteilsangebot ist nicht mit anderen Sparangeboten kombinierbar.\n\nD
 ie weiteren Seminare nach Level I werden mit den TeilnehmerInnen festgeleg
 t.\n\nOptional können Sie zwei Supervisionstage buchen (Gebühr: 280\,- 
 €)\, um an der international anerkannten Zertifizierung nach PhD Fred Ga
 llo teilzunehmen. Nach dieser dürfen Sie den ersten Kurstag offiziell unt
 errichten und werden als Practitioner auf der Internetseite von Fred Gallo
  gelistet. Weitere Informationen zu diesem Intensivtraining finden Sie HIE
 R.\n\nAdvanced Energy Psychology EDxTM ist das effektivste Training im Ber
 eich der psychologischen Kinesiologie: Selbstsabotagen werden erkannt und 
 aufgelöst\, emotional bedingte körperliche Belastungen balanciert\, unbe
 wusste Glaubensmuster bewusst gemacht und sanft verändert. Für unsere Be
 ziehungen\, beruflich-emotionale Herausforderungen und unserer Selbstvertr
 auen und absolutes MUSS! Jetzt buchen.
LOCATION:Kursort Silvia Astfalk\, Geisbergstr. 29\, Berlin\, 10777 \, Deuts
 chland
GEO:52.4975118;13.33863109999993
X-APPLE-STRUCTURED-LOCATION;VALUE=URI;X-ADDRESS=Geisbergstr. 29\, Berlin\, 
 10777 \, Deutschland;X-APPLE-RADIUS=100;X-TITLE=Kursort Silvia Astfalk:geo
 :52.4975118,13.33863109999993
END:VEVENT
BEGIN:VTIMEZONE
TZID:Europe/Berlin
X-LIC-LOCATION:Europe/Berlin
BEGIN:DAYLIGHT
DTSTART:20230326T030000
TZOFFSETFROM:+0100
TZOFFSETTO:+0200
TZNAME:CEST
END:DAYLIGHT
END:VTIMEZONE
END:VCALENDAR