BEGIN:VCALENDAR
VERSION:2.0
PRODID:-//wp-events-plugin.com//7.2.3.1//EN
TZID:Europe/Berlin
X-WR-TIMEZONE:Europe/Berlin
BEGIN:VEVENT
UID:140@kinesiologie-heilraum.de
DTSTART;TZID=Europe/Berlin:20230821T100000
DTEND;TZID=Europe/Berlin:20230827T180000
DTSTAMP:20230217T074334Z
URL:https://www.kinesiologie-heilraum.de/seminare-kinesiologie-berlin/6-ta
 ge-kinesiologie-basics-das-perfekte-einsteigertraining-jetzt-nur-720-e-fue
 r-fruehbucher
SUMMARY:6 Tage Kinesiologie Basics - Das perfekte Einsteigertraining: JETZT
  nur 720\,- € für Frühbucher
DESCRIPTION:Sparen Sie ganze 120\,-€ durch Buchung bis spätestens 1.7.20
 23:\nBrain-Gym I am 21. + 22.8.23 mehr Infos HIER\nTouch for Health I am 2
 3. + 24.8.23 mehr Infos HIER\n\n25.8.23 Pause / Tag zur freien Verfügung\
 n\nAdvanced Energy Psychology EDxTM I am 26. + 27.8.23 mehr Infos HIER\n\n
 Dieses effektive Kompakt-Training in die Kinesiologie findet vom 21. 8. - 
 27.8.23 mit einem Tag Pause für Sightseeing am 25.8.23 statt. Das Angebot
  ist nicht mit anderen Sparpaketen kombinierbar.\n\nEine solide Basis ist 
 der beste Weg zu Erfolg und einem gelungenen Start in die effektive Selbst
 hilfe. Deshalb hier die einmalige Einladung zu diesem Paketangebot in die 
 spannende und inspirierende Welt der Kinesiologie einzutauchen. Lernen Sie
  sich selbst und Ihre Talente neu kennen durch das Erlernen des Muskeltest
 s\, kinesiologischer Balancen und modernster (Selbst-) Coachingsverfahren.
  Ordnen Sie Ihre Stärken\, Werte\, Veränderungsprozesse und Motive neu. 
 Und das zum absoluten Einstiegspreis.\n\nOptionales Angebot: Buchen Sie si
 ch als TeilnehmerIn dieses Training eine individuelle Balance bei Silvia A
 stfalk zum Vorzugspreis von 70-. €. Sie können diese auch vorab als Ent
 scheidungshilfe buchen. Bei Anmeldung zum Training wird dann die Balance-G
 ebühr entsprechend reduziert.\n\nWeiterführende Fortgeschrittenenseminar
 e werden auf Wunsch mit den TeilnehmerInnen für das 2. Halbjahr 2023 fest
 gelegt.
LOCATION:Kursort Silvia Astfalk\, Geisbergstr. 29\, Berlin\, 10777 \, Deuts
 chland
GEO:52.4975118;13.33863109999993
X-APPLE-STRUCTURED-LOCATION;VALUE=URI;X-ADDRESS=Geisbergstr. 29\, Berlin\, 
 10777 \, Deutschland;X-APPLE-RADIUS=100;X-TITLE=Kursort Silvia Astfalk:geo
 :52.4975118,13.33863109999993
END:VEVENT
BEGIN:VTIMEZONE
TZID:Europe/Berlin
X-LIC-LOCATION:Europe/Berlin
BEGIN:DAYLIGHT
DTSTART:20230326T030000
TZOFFSETFROM:+0100
TZOFFSETTO:+0200
TZNAME:CEST
END:DAYLIGHT
END:VTIMEZONE
END:VCALENDAR