BEGIN:VCALENDAR
VERSION:2.0
PRODID:-//wp-events-plugin.com//7.2.3.1//EN
TZID:Europe/Berlin
X-WR-TIMEZONE:Europe/Berlin
BEGIN:VEVENT
UID:142@kinesiologie-heilraum.de
DTSTART;TZID=Europe/Berlin:20231227T100000
DTEND;TZID=Europe/Berlin:20240101T180000
DTSTAMP:20231114T083656Z
URL:https://www.kinesiologie-heilraum.de/seminare-kinesiologie-berlin/6-ta
 ge-kinesiologie-basics-das-perfekte-einsteigertraining-jetzt-nur-720-e-fue
 r-fruehbucher-2
SUMMARY:6 Tage Kinesiologie Basics - Das perfekte Einsteigertraining: JETZT
  nur 720\,- € für Frühbucher
DESCRIPTION:Sparen Sie ganze 120\,-€ durch Buchung bis spätestens 1.11.2
 023:\nBrain-Gym I am 27. + 28.12.23 mehr Infos HIER\nTouch for Health I am
  29. + 30.12.23 mehr Infos HIER\nAdvanced Energy Psychology EDxTM I am 31.
 12.23-1.1.24 mehr Infos HIER\n\nDas Angebot ist nicht mit anderen Sparpake
 ten kombinierbar.\n\nEine solide Basis ist der beste Weg zu Erfolg und ein
 em gelungenen Start in die effektive Selbsthilfe. Deshalb hier die einmali
 ge Einladung zu diesem Paketangebot in die spannende und inspirierende Wel
 t der Kinesiologie einzutauchen. Lernen Sie sich selbst und Ihre Talente n
 eu kennen durch das Erlernen des Muskeltests\, kinesiologischer Balancen u
 nd modernster (Selbst-) Coachingsverfahren. Ordnen Sie Ihre Stärken\, Wer
 te\, Veränderungsprozesse und Motive neu. Und das zum absoluten Einstiegs
 preis.\n\nOptionales Angebot: Buchen Sie sich als TeilnehmerIn dieses Trai
 ning eine individuelle Balance bei Silvia Astfalk zum Vorzugspreis von 70-
 . €. Sie können diese auch vorab als Entscheidungshilfe buchen. Bei Anm
 eldung zum Training wird dann die Balance-Gebühr entsprechend reduziert.\
 n\nWeiterführende Fortgeschrittenenseminare werden auf Wunsch mit den Tei
 lnehmerInnen für 2024 festgelegt.
LOCATION:Kursort Silvia Astfalk\, Geisbergstr. 29\, Berlin\, 10777 \, Deuts
 chland
GEO:52.4975118;13.33863109999993
X-APPLE-STRUCTURED-LOCATION;VALUE=URI;X-ADDRESS=Geisbergstr. 29\, Berlin\, 
 10777 \, Deutschland;X-APPLE-RADIUS=100;X-TITLE=Kursort Silvia Astfalk:geo
 :52.4975118,13.33863109999993
END:VEVENT
BEGIN:VTIMEZONE
TZID:Europe/Berlin
X-LIC-LOCATION:Europe/Berlin
BEGIN:STANDARD
DTSTART:20231029T020000
TZOFFSETFROM:+0200
TZOFFSETTO:+0100
TZNAME:CET
END:STANDARD
END:VTIMEZONE
END:VCALENDAR